BEGIN:VCALENDAR
VERSION:2.0
PRODID:-//eventon.com NONSGML v1.0//EN
BEGIN:VEVENT
UID:69e7389fac175
DTSTAMP:20260421T044311
DTSTART:20260502T123000Z
DTEND:20260503T210000Z
LOCATION:Holiday Inn Express & Suites Toronto Airport South\,  an IHG Hotel 25 International Blvd\,  Toronto\,  ON M9W 6H3
SUMMARY:Brain Healing Series: Level 1 - Concussions - Toronto\,  ON - May 2-3\,  2026
DESCRIPTION: THE ULTIMATE BRAIN HEALING SEMINAR CONCUSSION/BRAIN RECOVERY THERAPY (CbRT) was developed due to the high demand for successful and scientifically proven therapies to treat the Brain. CbRT is a game changer for all aspects of brain healing\,  producing positive changes after single session. Learn the sience\,  theories and practicum of[..]
END:VEVENT
END:VCALENDAR