BEGIN:VCALENDAR
VERSION:2.0
PRODID:-//eventon.com NONSGML v1.0//EN
BEGIN:VEVENT
UID:69e89d2f713dc
DTSTAMP:20260422T060431
DTSTART:20200516T123000Z
DTEND:20200517T210000Z
LOCATION:Best Western Premier Toronto Airport Carlingview Hotel 135 Carlingview Drive\,  Toronto\,  ON\,  Canada\,  M9W 5E7
SUMMARY:Concussion Recovery Therapy Level 1 - Toronto\,  ON
DESCRIPTION: Finally!! An essential course for the treatment of concussion injuries\,  PCS and TBI’s (really!). This is treatment based hands-on seminar that overviews the anatomy\,  pathology and  background of concussion injuries. Learn how NEW science is proving long-term industry held beliefs and status-quo therapies dead wrong.  Fully understand which therapeutic modalities[..]
END:VEVENT
END:VCALENDAR